BEGIN:VCALENDAR
VERSION:2.0
PRODID:-//Wohnpark S&uuml;dliche Weinstra&szlig;e - ECPv6.15.20//NONSGML v1.0//EN
CALSCALE:GREGORIAN
METHOD:PUBLISH
X-ORIGINAL-URL:https://wohnpark-suew.de
X-WR-CALDESC:Veranstaltungen für Wohnpark S&uuml;dliche Weinstra&szlig;e
REFRESH-INTERVAL;VALUE=DURATION:PT1H
X-Robots-Tag:noindex
X-PUBLISHED-TTL:PT1H
BEGIN:VTIMEZONE
TZID:UTC
BEGIN:STANDARD
TZOFFSETFROM:+0000
TZOFFSETTO:+0000
TZNAME:UTC
DTSTART:20250101T000000
END:STANDARD
END:VTIMEZONE
BEGIN:VEVENT
DTSTART;TZID=UTC:20260201T073000
DTEND;TZID=UTC:20261231T100000
DTSTAMP:20260423T135257
CREATED:20260213T154259Z
LAST-MODIFIED:20260213T155323Z
UID:301-1769931000-1798711200@wohnpark-suew.de
SUMMARY:Parkfrühstück
DESCRIPTION:Reichhaltiges Frühstücksbuffet im Parkcafé ☕🥐\nStarten Sie genussvoll in den Tag – mit unserem reichhaltigen Frühstücksbuffet im Parkcafé des Wohnparks Südliche Weinstraße in Bad Bergzabern. \nFreuen Sie sich auf eine vielfältige Auswahl an: \n\nfrischen Brötchen und Brot\nWurst- und Käsevariationen\nsüßen Aufstrichen\nfrischem Obst\nSäften\nsowie einer großen Auswahl an Warmgetränken\n\nOb gemütliches Frühstück zu zweit\, Treffen mit Freunden oder ein entspannter Start in den Tag – bei uns genießen Sie eine angenehme Atmosphäre und liebevoll zusammengestellte Qualität. \n\n🕒 Öffnungszeiten\nTäglich von 7:30 Uhr bis 10:00 Uhr \n💶 Preis\nNur 9\,50 € pro Person* \n*Preis gilt ohne Getränke \n\n📍 Hier finden Sie uns\nWohnpark Südliche Weinstraße – Parkcafé \nTischbergerstr. 4\, \n76887 Bad Bergzabern \n\nWir freuen uns auf Ihren Besuch im Parkcafé – \ngenießen Sie den Morgen bei uns!
URL:https://wohnpark-suew.de/event/parkfruehstueck/
LOCATION:Parkcafe\, Tischbergerstraße 4\, Wohnpark Südliche Weinstraße GmbH\, Bad Bergzabern\, Rheinland-Pfalz\, 76887\, Germany
CATEGORIES:Events
ORGANIZER;CN="Wohnpark S%C3%BCdliche Weinstra%C3%9Fe":MAILTO:cafe@wohnpark-suew.de
END:VEVENT
BEGIN:VEVENT
DTSTART;TZID=UTC:20260226T173000
DTEND;TZID=UTC:20260226T183000
DTSTAMP:20260423T135257
CREATED:20260208T114552Z
LAST-MODIFIED:20260208T115129Z
UID:251-1772127000-1772130600@wohnpark-suew.de
SUMMARY:Entrecôte im Wohnpark Südliche Weinstraße Bad Bergzabern
DESCRIPTION:🥩 Entrecôte-Abend im Parkcafé 🍷 \nEin besonderer Genuss für alle Steakliebhaber! \nFreuen Sie sich auf einen genussvollen Abend im Parkcafé des Wohnparks Südliche Weinstraße. \nWir servieren Ihnen ein saftiges Entrecôte (200 g) mit Ofenkartoffel\, Portweinzwiebeln und frischem Feldsalat mit Croûtons. \nZum süßen Abschluss erwarten Sie zwei Kugeln Eis mit Sahne. \n📅 26.02.2026 \n🕠 Einlass: 17:30 – 18:30 Uhr \n💶 29\,90 € pro Person (*ohne Getränke)
URL:https://wohnpark-suew.de/event/entrecote-im-wohnpark-suedliche-weinstrasse-bad-bergzabern/
LOCATION:Entrecôte im Parkcafé\, Tischbergerstraße 4\, Wohnpark Südliche Weinstraße GmbH\, Bad Bergzabern\, Rheinland-Pfalz\, 76887\, Germany
CATEGORIES:Events
ORGANIZER;CN="Wohnpark S%C3%BCdliche Weinstra%C3%9Fe":MAILTO:cafe@wohnpark-suew.de
END:VEVENT
END:VCALENDAR